BEGIN:VCALENDAR
VERSION:2.0
PRODID:icalendar-ruby
CALSCALE:GREGORIAN
METHOD:PUBLISH
BEGIN:VEVENT
DTSTAMP:20260422T105012Z
UID:41-1232811@ccpahrump.com
DTSTART:20260920T164500Z
DTEND:20260920T183000Z
CLASS:PUBLIC
CREATED:20260421T174602
DESCRIPTION:Our Rooted Youth Group meets every sunday at 9:45am and 11:30am
  on the lower level of the Children's Ministry Building. \nIf you have any
  questions\, you can speak to Luke Lansciardi or email us at contact@ccpah
 rump.com
LAST-MODIFIED:20260421T174602
LOCATION:Children's Ministry Building
SUMMARY:Rooted Youth Group
URL;VALUE=URI:https://calvarychapelpahrump.org/events/rooted-youth-group/20
 26-09-20
ATTACH;FILENAME=FallWinter-Slides-2026-7.png;FMTTYPE=image/png:https://dq5p
 wpg1q8ru0.cloudfront.net/2026/02/04/17/08/49/ea687546-3f88-4b52-b642-7004d
 45e1a8e/FallWinter-Slides-2026-7.png
END:VEVENT
END:VCALENDAR
