BEGIN:VCALENDAR
VERSION:2.0
PRODID:icalendar-ruby
CALSCALE:GREGORIAN
METHOD:PUBLISH
BEGIN:VEVENT
DTSTAMP:20260424T021323Z
UID:93-1240290@ccpahrump.com
DTSTART:20260514T163000Z
DTEND:20260514T180000Z
CLASS:PUBLIC
CREATED:20260423T104731
DESCRIPTION:
LAST-MODIFIED:20260423T104731
LOCATION:
SUMMARY:Marilyn Kish Life Group
URL;VALUE=URI:https://calvarychapelpahrump.org/events/marilyn-kish-life-gro
 up/2026-05-14
END:VEVENT
END:VCALENDAR
