BEGIN:VCALENDAR
VERSION:2.0
PRODID:icalendar-ruby
CALSCALE:GREGORIAN
METHOD:PUBLISH
BEGIN:VEVENT
DTSTAMP:20260423T232617Z
UID:90-1240403@ccpahrump.com
DTSTART:20260424T000000Z
DTEND:20260424T013000Z
CLASS:PUBLIC
CREATED:20260423T130528
DESCRIPTION:
LAST-MODIFIED:20260423T130528
LOCATION:2381 Washoe Ave Pahrump\, NV 89048
SUMMARY:Jim McDonald and Mike Doeller Life Group
URL;VALUE=URI:https://calvarychapelpahrump.org/events/jim-mcdonald-and-mike
 -doeller-life-group/2026-04-23
END:VEVENT
END:VCALENDAR
