BEGIN:VCALENDAR
VERSION:2.0
PRODID:icalendar-ruby
CALSCALE:GREGORIAN
METHOD:PUBLISH
BEGIN:VEVENT
DTSTAMP:20260424T041015Z
UID:88-1240429@ccpahrump.com
DTSTART:20260507T013000Z
DTEND:20260507T030000Z
CLASS:PUBLIC
CREATED:20260423T130542
DESCRIPTION:
LAST-MODIFIED:20260423T130542
LOCATION:
SUMMARY:Dave Clasen Life Group
URL;VALUE=URI:https://calvarychapelpahrump.org/events/dave-clasen-life-grou
 p/2026-05-06
END:VEVENT
END:VCALENDAR
