BEGIN:VCALENDAR
VERSION:2.0
PRODID:icalendar-ruby
CALSCALE:GREGORIAN
METHOD:PUBLISH
BEGIN:VEVENT
DTSTAMP:20260424T152851Z
UID:91-1240271@ccpahrump.com
DTSTART:20260624T003000Z
DTEND:20260624T020000Z
CLASS:PUBLIC
CREATED:20260423T104711
DESCRIPTION:
LAST-MODIFIED:20260423T104711
LOCATION:4860 E Pawnee Place\, 89048
SUMMARY:Brian Jacobs Life Group
URL;VALUE=URI:https://calvarychapelpahrump.org/events/brian-jacobs-life-gro
 up/2026-06-23
END:VEVENT
END:VCALENDAR
